BEGIN:VCALENDAR
VERSION:2.0
PRODID:-//SVP Bezirk Meilen //NONSGML Events //EN
CALSCALE:GREGORIAN
X-WR-CALNAME:SVP Bezirk Meilen
BEGIN:VEVENT
CREATED:20230528T111038Z
UID:1461
DTEND:20230622T190000
DTSTART:20230622T180000
DTSTAMP:20260424T001003Z
LOCATION:Schlattgut Herrliberg
DESCRIPTION:   Anmeldung: Einladung Grillabend 23, v8 Peter Pfändler, Kabarettis
SUMMARY:Grillabend mit Peter Pfändler
ORGANIZER:
URL;VALUE=URI:https://www.svpbezirkmeilen.ch/termine/svp-grillabend/
TRANSP:OPAQUE
END:VEVENT
END:VCALENDAR
