BEGIN:VCALENDAR
VERSION:2.0
PRODID:-//SVP Bezirk Meilen //NONSGML Events //EN
CALSCALE:GREGORIAN
X-WR-CALNAME:SVP Bezirk Meilen
BEGIN:VEVENT
CREATED:20221024T175053Z
UID:1367
DTEND:20221126T000000
DTSTART:20221126T000000
DTSTAMP:20260424T062455Z
LOCATION:
DESCRIPTION:mit den SVP Kantonsratskandidaten
SUMMARY:Standaktion Zollikon
ORGANIZER:
URL;VALUE=URI:https://www.svpbezirkmeilen.ch/termine/standaktion-zollikon/
TRANSP:OPAQUE
END:VEVENT
END:VCALENDAR
